BEGIN:VCALENDAR
VERSION:2.0
PRODID:-//Delray Beach Playhouse - ECPv6.15.20//NONSGML v1.0//EN
CALSCALE:GREGORIAN
METHOD:PUBLISH
X-ORIGINAL-URL:https://delraybeachplayhouse.com
X-WR-CALDESC:Events for Delray Beach Playhouse
REFRESH-INTERVAL;VALUE=DURATION:PT1H
X-Robots-Tag:noindex
X-PUBLISHED-TTL:PT1H
BEGIN:VTIMEZONE
TZID:America/New_York
BEGIN:DAYLIGHT
TZOFFSETFROM:-0500
TZOFFSETTO:-0400
TZNAME:EDT
DTSTART:20260308T070000
END:DAYLIGHT
BEGIN:STANDARD
TZOFFSETFROM:-0400
TZOFFSETTO:-0500
TZNAME:EST
DTSTART:20261101T060000
END:STANDARD
BEGIN:DAYLIGHT
TZOFFSETFROM:-0500
TZOFFSETTO:-0400
TZNAME:EDT
DTSTART:20270314T070000
END:DAYLIGHT
BEGIN:STANDARD
TZOFFSETFROM:-0400
TZOFFSETTO:-0500
TZNAME:EST
DTSTART:20271107T060000
END:STANDARD
BEGIN:DAYLIGHT
TZOFFSETFROM:-0500
TZOFFSETTO:-0400
TZNAME:EDT
DTSTART:20280312T070000
END:DAYLIGHT
BEGIN:STANDARD
TZOFFSETFROM:-0400
TZOFFSETTO:-0500
TZNAME:EST
DTSTART:20281105T060000
END:STANDARD
END:VTIMEZONE
BEGIN:VEVENT
DTSTART;TZID=America/New_York:20270129T193000
DTEND;TZID=America/New_York:20270129T220000
DTSTAMP:20260423T051754
CREATED:20260226T165120Z
LAST-MODIFIED:20260302T185923Z
UID:10001985-1801251000-1801260000@delraybeachplayhouse.com
SUMMARY:GROUNDHOG DAY
DESCRIPTION:[vc_row type=”in_container” full_screen_row_position=”middle” column_margin=”default” column_direction=”default” column_direction_tablet=”default” column_direction_phone=”default” scene_position=”center” text_color=”dark” text_align=”left” row_border_radius=”none” row_border_radius_applies=”bg” row_position_desktop=”default” row_position_tablet=”inherit” row_position_phone=”inherit” overflow=”visible” overlay_strength=”0.3″ gradient_direction=”left_to_right” shape_divider_position=”bottom” bg_image_animation=”none”][vc_column column_padding=”no-extra-padding” column_padding_tablet=”inherit” column_padding_phone=”inherit” column_padding_position=”all” flex_gap_desktop=”10px” column_element_direction_desktop=”default” column_element_spacing=”default” desktop_text_alignment=”default” tablet_text_alignment=”default” phone_text_alignment=”default” background_color_opacity=”1″ background_hover_color_opacity=”1″ column_backdrop_filter=”none” column_shadow=”none” column_border_radius=”none” column_link_target=”_self” column_position=”default” gradient_direction=”left_to_right” overlay_strength=”0.3″ width=”1/1″ tablet_width_inherit=”default” animation_type=”default” bg_image_animation=”none” border_type=”simple” column_border_width=”none” column_border_style=”solid”][vc_column_text css=”” text_direction=”default”]\nMain Stage Play Series | Subscriptions Available Soon\n[/vc_column_text][vc_column_text css=”” text_direction=”default”]\nBook by Danny Rubin\, Music & Lyrics by Tim Minchin\, Based on the Columbia Pictures Motion Picture and the story by Danny Rubin.\n  \nHow would you spend your time if forced to repeat the same day over and over again?  \nGROUNDHOG DAY tells the story of Phil Connors\, an arrogant Pittsburgh TV weatherman who\, during an assignment covering the annual Groundhog Day event in Punxsutawney\, Pennsylvania finds himself in a time loop\, repeating the same day again and again. Groundhog Day revels in one man’s journey of self-discovery\, day after day… \n[/vc_column_text][/vc_column][/vc_row][vc_row type=”in_container” full_screen_row_position=”middle” column_margin=”default” column_direction=”default” column_direction_tablet=”default” column_direction_phone=”default” scene_position=”center” text_color=”dark” text_align=”left” row_border_radius=”none” row_border_radius_applies=”bg” row_position_desktop=”default” row_position_tablet=”inherit” row_position_phone=”inherit” overflow=”visible” overlay_strength=”0.3″ gradient_direction=”left_to_right” shape_divider_position=”bottom” bg_image_animation=”none”][vc_column column_padding=”no-extra-padding” column_padding_tablet=”inherit” column_padding_phone=”inherit” column_padding_position=”all” flex_gap_desktop=”10px” column_element_direction_desktop=”default” column_element_spacing=”default” desktop_text_alignment=”default” tablet_text_alignment=”default” phone_text_alignment=”default” background_color_opacity=”1″ background_hover_color_opacity=”1″ column_backdrop_filter=”none” column_shadow=”none” column_border_radius=”none” column_link_target=”_self” column_position=”default” gradient_direction=”left_to_right” overlay_strength=”0.3″ width=”1/1″ tablet_width_inherit=”default” animation_type=”default” bg_image_animation=”none” border_type=”simple” column_border_width=”none” column_border_style=”solid”][divider line_type=”Full Width Line” line_thickness=”1″ divider_color=”default”][/vc_column][/vc_row][vc_row type=”in_container” full_screen_row_position=”middle” column_margin=”default” column_direction=”default” column_direction_tablet=”default” column_direction_phone=”default” scene_position=”center” text_color=”dark” text_align=”left” row_border_radius=”none” row_border_radius_applies=”bg” row_position_desktop=”default” row_position_tablet=”inherit” row_position_phone=”inherit” overflow=”visible” overlay_strength=”0.3″ gradient_direction=”left_to_right” shape_divider_position=”bottom” bg_image_animation=”none”][vc_column column_padding=”no-extra-padding” column_padding_tablet=”inherit” column_padding_phone=”inherit” column_padding_position=”all” flex_gap_desktop=”10px” column_element_direction_desktop=”default” column_element_spacing=”default” desktop_text_alignment=”default” tablet_text_alignment=”default” phone_text_alignment=”default” background_color_opacity=”1″ background_hover_color_opacity=”1″ column_backdrop_filter=”none” column_shadow=”none” column_border_radius=”none” column_link_target=”_self” column_position=”default” gradient_direction=”left_to_right” overlay_strength=”0.3″ width=”1/1″ tablet_width_inherit=”default” animation_type=”default” bg_image_animation=”none” border_type=”simple” column_border_width=”none” column_border_style=”solid”] \n“MADLY ENTERTAINING! A SHOW WORTH REPEATING!” – The Hollywood Reporter  \n“Fantastically smart\, clever and witty” – The Guardian  \n“Groundhog Day: The Musical soars.” – Entertainment Weekly  \n [divider line_type=”Full Width Line” line_thickness=”1″ divider_color=”default”][/vc_column][/vc_row][vc_row type=”in_container” full_screen_row_position=”middle” column_margin=”default” column_direction=”default” column_direction_tablet=”default” column_direction_phone=”default” scene_position=”center” text_color=”dark” text_align=”left” row_border_radius=”none” row_border_radius_applies=”bg” row_position_desktop=”default” row_position_tablet=”inherit” row_position_phone=”inherit” overflow=”visible” overlay_strength=”0.3″ gradient_direction=”left_to_right” shape_divider_position=”bottom” bg_image_animation=”none”][vc_column column_padding=”no-extra-padding” column_padding_tablet=”inherit” column_padding_phone=”inherit” column_padding_position=”all” flex_gap_desktop=”10px” column_element_direction_desktop=”default” column_element_spacing=”default” desktop_text_alignment=”default” tablet_text_alignment=”default” phone_text_alignment=”default” background_color_opacity=”1″ background_hover_color_opacity=”1″ column_backdrop_filter=”none” column_shadow=”none” column_border_radius=”none” column_link_target=”_self” column_position=”default” gradient_direction=”left_to_right” overlay_strength=”0.3″ width=”1/1″ tablet_width_inherit=”default” animation_type=”default” bg_image_animation=”none” border_type=”simple” column_border_width=”none” column_border_style=”solid”][vc_column_text css=”” text_direction=”default”]\nHistory: This musical reunited composer and lyricist Tim\, with director Matthew Warchus\, choreographer Peter Darling and designer Rob Howell\, four of the Matilda The Musical creative team. They joined forces with writer Danny Rubin to collaborate on this show based on his 1993 hit film. Groundhog Day had its world premiere and enjoyed a critically acclaimed strictly limited 10 week season at The Old Vic Theatre\, London\, in the summer of 2016. One of the most ambitious shows ever to have been staged at The Old Vic\, previews began on the 15th July. The official Opening Night on August 16th brought in a blizzard of rave 5 Star reviews. The show closed with emotional celebrations and farewells on the 17th September 2016\, Broadway bound for spring 2017.\n \nAccolades: Won two Olivier Awards (Best New Musical; Best Actor in a Musical)\, the Critics’ Circle Award for Best Musical\, and four BroadwayWorld UK/West End Awards including Theatrical Event of the Year; nominated for seven Tony Awards (including Best Musical\, Best Original Score\, and Best Leading Actor — Andy Karl)\, five Outer Critics Circle Awards\, two Drama League Awards\, and one Drama Desk Award. \n[/vc_column_text][/vc_column][/vc_row]
URL:https://delraybeachplayhouse.com/performance/groundhog-day/2027-01-29/
LOCATION:Delray Beach Playhouse\, 950 NW 9TH ST\, DELRAY BEACH\, FL\, 33444\, United States
CATEGORIES:Main Stage Plays
ATTACH;FMTTYPE=image/png:https://delraybeachplayhouse.com/delray_2021/wp-content/uploads/2026/02/900x410-GroundHog-2.png
END:VEVENT
END:VCALENDAR