BEGIN:VCALENDAR
VERSION:2.0
PRODID:-//Delray Beach Playhouse - ECPv6.15.20//NONSGML v1.0//EN
CALSCALE:GREGORIAN
METHOD:PUBLISH
X-ORIGINAL-URL:https://delraybeachplayhouse.com
X-WR-CALDESC:Events for Delray Beach Playhouse
REFRESH-INTERVAL;VALUE=DURATION:PT1H
X-Robots-Tag:noindex
X-PUBLISHED-TTL:PT1H
BEGIN:VTIMEZONE
TZID:America/New_York
BEGIN:DAYLIGHT
TZOFFSETFROM:-0500
TZOFFSETTO:-0400
TZNAME:EDT
DTSTART:20260308T070000
END:DAYLIGHT
BEGIN:STANDARD
TZOFFSETFROM:-0400
TZOFFSETTO:-0500
TZNAME:EST
DTSTART:20261101T060000
END:STANDARD
BEGIN:DAYLIGHT
TZOFFSETFROM:-0500
TZOFFSETTO:-0400
TZNAME:EDT
DTSTART:20270314T070000
END:DAYLIGHT
BEGIN:STANDARD
TZOFFSETFROM:-0400
TZOFFSETTO:-0500
TZNAME:EST
DTSTART:20271107T060000
END:STANDARD
BEGIN:DAYLIGHT
TZOFFSETFROM:-0500
TZOFFSETTO:-0400
TZNAME:EDT
DTSTART:20280312T070000
END:DAYLIGHT
BEGIN:STANDARD
TZOFFSETFROM:-0400
TZOFFSETTO:-0500
TZNAME:EST
DTSTART:20281105T060000
END:STANDARD
END:VTIMEZONE
BEGIN:VEVENT
DTSTART;TZID=America/New_York:20270328T140000
DTEND;TZID=America/New_York:20270328T170000
DTSTAMP:20260423T074702
CREATED:20260227T191815Z
LAST-MODIFIED:20260227T191815Z
UID:10002037-1806242400-1806253200@delraybeachplayhouse.com
SUMMARY:THE BOYNTON BEACH CLUB
DESCRIPTION:[vc_row type=”in_container” full_screen_row_position=”middle” column_margin=”default” column_direction=”default” column_direction_tablet=”default” column_direction_phone=”default” scene_position=”center” text_color=”dark” text_align=”left” row_border_radius=”none” row_border_radius_applies=”bg” row_position_desktop=”default” row_position_tablet=”inherit” row_position_phone=”inherit” overflow=”visible” overlay_strength=”0.3″ gradient_direction=”left_to_right” shape_divider_position=”bottom” bg_image_animation=”none”][vc_column column_padding=”no-extra-padding” column_padding_tablet=”inherit” column_padding_phone=”inherit” column_padding_position=”all” flex_gap_desktop=”10px” column_element_direction_desktop=”default” column_element_spacing=”default” desktop_text_alignment=”default” tablet_text_alignment=”default” phone_text_alignment=”default” background_color_opacity=”1″ background_hover_color_opacity=”1″ column_backdrop_filter=”none” column_shadow=”none” column_border_radius=”none” column_link_target=”_self” column_position=”default” gradient_direction=”left_to_right” overlay_strength=”0.3″ width=”1/1″ tablet_width_inherit=”default” animation_type=”default” bg_image_animation=”none” border_type=”simple” column_border_width=”none” column_border_style=”solid”][vc_column_text css=”” text_direction=”default”]\nMain Stage Play Series | Subscriptions Available Soon\n[/vc_column_text][vc_column_text css=”” text_direction=”default”]\nBased on the movie and book by Susan Seidelman\, music by Ned Paul Ginsburg and lyrics by Michael Colby.\nLoss\, laughter and a second chance at love!  \nBOYNTON BEACH CLUB is a musical comedy based on the Susan Seidelman movie of the same name. The story centers on six seniors living in Boynton Beach who\, after the death of their spouses\, become friends at a bereavement support group.There to find emotional support\, they soon find themselves back in the “dating game” after decades of married life\, only to discover that all the rules have changed! Those who think that new love and romance end well before retirement age are in for a reality check. In a world where 60 is fast becoming the new 40\, BOYNTON BEACH CLUB  shows that it’s never too late to fall in love with ourselves and others\, whatever your age!  \n  \n[/vc_column_text][/vc_column][/vc_row][vc_row type=”in_container” full_screen_row_position=”middle” column_margin=”default” column_direction=”default” column_direction_tablet=”default” column_direction_phone=”default” scene_position=”center” text_color=”dark” text_align=”left” row_border_radius=”none” row_border_radius_applies=”bg” row_position_desktop=”default” row_position_tablet=”inherit” row_position_phone=”inherit” overflow=”visible” overlay_strength=”0.3″ gradient_direction=”left_to_right” shape_divider_position=”bottom” bg_image_animation=”none”][vc_column column_padding=”no-extra-padding” column_padding_tablet=”inherit” column_padding_phone=”inherit” column_padding_position=”all” flex_gap_desktop=”10px” column_element_direction_desktop=”default” column_element_spacing=”default” desktop_text_alignment=”default” tablet_text_alignment=”default” phone_text_alignment=”default” background_color_opacity=”1″ background_hover_color_opacity=”1″ column_backdrop_filter=”none” column_shadow=”none” column_border_radius=”none” column_link_target=”_self” column_position=”default” gradient_direction=”left_to_right” overlay_strength=”0.3″ width=”1/1″ tablet_width_inherit=”default” animation_type=”default” bg_image_animation=”none” border_type=”simple” column_border_width=”none” column_border_style=”solid”][divider line_type=”Full Width Line” line_thickness=”1″ divider_color=”default”] \n“Charming” – The Herald Tribune       \n [divider line_type=”Full Width Line” line_thickness=”1″ divider_color=”default”][/vc_column][/vc_row][vc_row type=”in_container” full_screen_row_position=”middle” column_margin=”default” column_direction=”default” column_direction_tablet=”default” column_direction_phone=”default” scene_position=”center” text_color=”dark” text_align=”left” row_border_radius=”none” row_border_radius_applies=”bg” row_position_desktop=”default” row_position_tablet=”inherit” row_position_phone=”inherit” overflow=”visible” overlay_strength=”0.3″ gradient_direction=”left_to_right” shape_divider_position=”bottom” bg_image_animation=”none”][vc_column column_padding=”no-extra-padding” column_padding_tablet=”inherit” column_padding_phone=”inherit” column_padding_position=”all” flex_gap_desktop=”10px” column_element_direction_desktop=”default” column_element_spacing=”default” desktop_text_alignment=”default” tablet_text_alignment=”default” phone_text_alignment=”default” background_color_opacity=”1″ background_hover_color_opacity=”1″ column_backdrop_filter=”none” column_shadow=”none” column_border_radius=”none” column_link_target=”_self” column_position=”default” gradient_direction=”left_to_right” overlay_strength=”0.3″ width=”1/1″ tablet_width_inherit=”default” animation_type=”default” bg_image_animation=”none” border_type=”simple” column_border_width=”none” column_border_style=”solid”][vc_column_text css=”” text_direction=”default”]\nHistory: \nShot in 2005\, Boynton Beach Club premiered as a film in the Hamptons International Film Festival in East Hampton\, New York  in 2005 and starred Brenda Vaccaro\, Dyan Cannon and Tony winner Len Cariou. It was then released to theaters in South Florida on March 17\, 2006 and wider on August 4\, playing in six states: New York\, New Jersey\, Connecticut\, Missouri\, Arizona and California. The film’s working title was The Boynton Beach Bereavement Club.  The musical\, based on the film of the same name\, previously had two small\, invitation-only readings in New York. A concert version titled Boynton Beach Club: A New Musical In Concert was presented in February 2012 at the Park Vista Theatre in Lake Worth\, FL\, featuring a seasoned cast. The full musical had its premiere at the Manatee Performing Arts Center in Florida\, running through early April 2017\, featuring a projection-heavy\, intimate production that highlighted the poignant and funny aspects of life after 50.  \n[/vc_column_text][/vc_column][/vc_row]
URL:https://delraybeachplayhouse.com/performance/the-boynton-beach-club/2027-03-28/
LOCATION:Delray Beach Playhouse\, 950 NW 9TH ST\, DELRAY BEACH\, FL\, 33444\, United States
CATEGORIES:Main Stage Plays
ATTACH;FMTTYPE=image/png:https://delraybeachplayhouse.com/delray_2021/wp-content/uploads/2026/02/900x410-Boynton-Beach-Club.png
END:VEVENT
END:VCALENDAR